BEGIN:VCALENDAR
VERSION:2.0
PRODID:-//Plone.org//NONSGML plone.app.event//EN
X-WR-TIMEZONE:Europe/Berlin
BEGIN:VEVENT
SUMMARY:Crisis of Law or Genesis of a New Legal Culture?
DTSTART;TZID=Europe/Berlin:20260210T150000
DTEND;TZID=Europe/Berlin:20260210T180000
DTSTAMP:20260426T063106Z
UID:a3f6bb3cc7a1416ea3a21a7769489609@www.edf.uni-bonn.de
CATEGORIES:Events
CREATED:20260109T101734Z
DESCRIPTION:Perhaps we need to go beyond the usual gestures of outrage and
  take the step of analyzing the genesis of a “new legal culture” rathe
 r than merely a “crisis of law.” The semantics of legal culture offer 
 the great advantage of being able to detach themselves from normative eval
 uations in order to enable a precise description and explanation of normat
 ive orders—as is necessary for a culturally inspired and critical analys
 is of law.\n\nThe aim is to shed light on a change of perspective for whic
 h we do not yet have fixed terms (neo-imperialism\, neo-colonialism\, etc.
 )\, but which can no longer be understood as a mere phenomenon of deviatio
 n from traditional legal concepts. Contributions come from American studie
 s scholars\, legal sociologists\, and legal theorists. We look forward to 
 lively participation in this exciting analytical process.\n\nZoomlink: htt
 ps://uni-bonn.zoom-x.de/j/63853247219?pwd=yqhXc0ToQhBuFai3axOqyPbCBIT5fY.1
LAST-MODIFIED:20260127T102156Z
URL:https://www.edf.uni-bonn.de/en/events/krise-des-rechts-oder-genese-ein
 er-neuen-rechtskultur
END:VEVENT
BEGIN:VTIMEZONE
TZID:Europe/Berlin
X-LIC-LOCATION:Europe/Berlin
BEGIN:STANDARD
DTSTART:20251026T020000
TZNAME:CET
TZOFFSETFROM:+0200
TZOFFSETTO:+0100
END:STANDARD
END:VTIMEZONE
END:VCALENDAR
